BEGIN:VCALENDAR
VERSION:2.0
PRODID:-//Squarespace Inc/Squarespace 6//v6//EN
BEGIN:VEVENT
UID:5cb427ae6e9a7f1034add58e@squarespace.com
DTSTAMP:20190415T064453Z
DTSTART:20190517T083000Z
DTEND:20190517T123000Z
SUMMARY:Live At New Hall\, Album Launch
END:VEVENT
END:VCALENDAR
