BEGIN:VCALENDAR
VERSION:2.0
PRODID:-//Squarespace Inc/Squarespace 6//v6//EN
BEGIN:VEVENT
UID:56245339e4b0fd5726ac4a0b@squarespace.com
DTSTAMP:20151019T021954Z
DTSTART:20160319T010000Z
DTEND:20160319T020000Z
SUMMARY:Surf Coast Relay for Life
END:VEVENT
END:VCALENDAR
