BEGIN:VCALENDAR
VERSION:2.0
PRODID:-//Squarespace Inc/Squarespace 6//v6//EN
BEGIN:VEVENT
UID:567fb07c40667a31535f89d0@squarespace.com
DTSTAMP:20151227T093601Z
DTSTART:20160219T010000Z
DTEND:20160219T030000Z
SUMMARY:Geelong Street Performers
END:VEVENT
END:VCALENDAR
