BEGIN:VCALENDAR
VERSION:2.0
PRODID:-//Squarespace Inc/Squarespace 6//v6//EN
BEGIN:VEVENT
UID:567fb1111115e03a973a65b3@squarespace.com
DTSTAMP:20151227T093639Z
DTSTART:20160213T090000Z
DTEND:20160213T113000Z
SUMMARY:Unwined Bar
END:VEVENT
END:VCALENDAR
