BEGIN:VCALENDAR
VERSION:2.0
PRODID:-//Squarespace Inc/Squarespace 6//v6//EN
BEGIN:VEVENT
UID:562452eee4b0a77217f5d131@squarespace.com
DTSTAMP:20151019T021846Z
DTSTART:20160109T003000Z
DTEND:20160109T013000Z
SUMMARY:Portarlington Mussel Festival
END:VEVENT
END:VCALENDAR
