BEGIN:VCALENDAR
VERSION:2.0
PRODID:-//Squarespace Inc/Squarespace 6//v6//EN
BEGIN:VEVENT
UID:567fafe2df40f3468f6b453f@squarespace.com
DTSTAMP:20151227T093127Z
DTSTART:20160129T010000Z
DTEND:20160129T030000Z
SUMMARY:Geelong Street Performers
END:VEVENT
END:VCALENDAR
