BEGIN:VCALENDAR
VERSION:2.0
PRODID:-//Squarespace Inc/Squarespace 6//v6//EN
BEGIN:VEVENT
UID:567fb0479cadb6554db68f60@squarespace.com
DTSTAMP:20151227T093315Z
DTSTART:20160126T030000Z
DTEND:20160126T034500Z
SUMMARY:Festival of Sails - Geelong Waterfront
END:VEVENT
END:VCALENDAR
