BEGIN:VCALENDAR
VERSION:2.0
PRODID:-//Squarespace Inc/Squarespace 6//v6//EN
BEGIN:VEVENT
UID:567fb01905f8e2f75c761fd8@squarespace.com
DTSTAMP:20151227T093243Z
DTSTART:20160124T041500Z
DTEND:20160124T050000Z
SUMMARY:Festival of Sails - Geelong Waterfront 
END:VEVENT
END:VCALENDAR
