BEGIN:VCALENDAR
VERSION:2.0
PRODID:-//Squarespace Inc/Squarespace 6//v6//EN
BEGIN:VEVENT
UID:567fad9b4bf118911ffe8d2e@squarespace.com
DTSTAMP:20151227T092926Z
DTSTART:20160102T010000Z
DTEND:20160102T013000Z
SUMMARY:Ocean Grove Tranquility Fair
END:VEVENT
END:VCALENDAR
