BEGIN:VCALENDAR
VERSION:2.0
PRODID:-//Squarespace Inc/Squarespace 6//v6//EN
BEGIN:VEVENT
UID:56245317e4b058efb0c43299@squarespace.com
DTSTAMP:20151019T021921Z
DTSTART:20160117T010000Z
DTEND:20160117T020000Z
SUMMARY:Torquay Cowrie Market
END:VEVENT
END:VCALENDAR
