BEGIN:VCALENDAR
VERSION:2.0
PRODID:-//Squarespace Inc/Squarespace 6//v6//EN
BEGIN:VEVENT
UID:559cfc96e4b0271a54ae805c@squarespace.com
DTSTAMP:20150708T103419Z
DTSTART:20150906T060000Z
DTEND:20150906T090000Z
SUMMARY:Cafe Maritana - Sunday Afternoon Session
END:VEVENT
END:VCALENDAR
