BEGIN:VCALENDAR
VERSION:2.0
PRODID:-//Squarespace Inc/Squarespace 6//v6//EN
BEGIN:VEVENT
UID:559cfc6ae4b0e5fcdc246e10@squarespace.com
DTSTAMP:20150708T103344Z
DTSTART:20150807T090000Z
DTEND:20150807T120000Z
SUMMARY:Cafe Maritana
END:VEVENT
END:VCALENDAR
