BEGIN:VCALENDAR
VERSION:2.0
PRODID:-//Squarespace Inc/Squarespace 6//v6//EN
BEGIN:VEVENT
UID:559cfe64e4b0b5cbd2be4557@squarespace.com
DTSTAMP:20150708T104221Z
DTSTART:20150829T090000Z
DTEND:20150829T120000Z
SUMMARY:The Tides of Welcome Choir with Andrea Robertson & Friends
END:VEVENT
END:VCALENDAR
