BEGIN:VCALENDAR
VERSION:2.0
PRODID:-//Squarespace Inc/Squarespace 6//v6//EN
BEGIN:VEVENT
UID:559cfcb5e4b0ffc53d0cb487@squarespace.com
DTSTAMP:20150708T104123Z
DTSTART:20150822T090000Z
DTEND:20150822T130000Z
SUMMARY:Elvis Presley Tribute Night
GEO:-38.267869;144.524663
LOCATION:Piping Hot Chicken & Burger Grill\, The Terrace\, Ocean Grove\, VI
 C\, 3226\, Australia
END:VEVENT
END:VCALENDAR
