BEGIN:VCALENDAR
VERSION:2.0
PRODID:-//Squarespace Inc/Squarespace 6//v6//EN
BEGIN:VEVENT
UID:55c3f539e4b0145a3c21ba70@squarespace.com
DTSTAMP:20150807T000501Z
DTSTART:20150814T080000Z
DTEND:20150814T100000Z
SUMMARY:POINT LONSDALE GOLF CLUB
GEO:-38.278677;144.602196
LOCATION:Point Lonsale Golf Club\, 69 Fellows Rd\, Point Lonsdale\, VIC\, 3
 225\, Australia
END:VEVENT
END:VCALENDAR
