BEGIN:VCALENDAR
VERSION:2.0
PRODID:-//Squarespace Inc/Squarespace 6//v6//EN
BEGIN:VEVENT
UID:5588a2cce4b0e8531ed14d80@squarespace.com
DTSTAMP:20150623T000838Z
DTSTART:20150708T020000Z
DTEND:20150708T040000Z
SUMMARY:Little Malop Street Central\, Geelong
END:VEVENT
END:VCALENDAR
