BEGIN:VCALENDAR
VERSION:2.0
PRODID:-//Squarespace Inc/Squarespace 6//v6//EN
BEGIN:VEVENT
UID:55889e5fe4b0d4f1a8c699e4@squarespace.com
DTSTAMP:20150623T000039Z
DTSTART:20150703T013000Z
DTEND:20150703T043000Z
SUMMARY:Food Truck Friday\, Little Malop Street Central\, Geelong
END:VEVENT
END:VCALENDAR
