BEGIN:VCALENDAR
VERSION:2.0
PRODID:-//Squarespace Inc/Squarespace 6//v6//EN
BEGIN:VEVENT
UID:5588a3a6e4b0ceb955a7dd7f@squarespace.com
DTSTAMP:20150623T001036Z
DTSTART:20150724T080000Z
DTEND:20150724T130000Z
SUMMARY:Light of Day - Fundraiser for Parkinsons Disease
END:VEVENT
END:VCALENDAR
