BEGIN:VCALENDAR
VERSION:2.0
PRODID:-//Squarespace Inc/Squarespace 6//v6//EN
BEGIN:VEVENT
UID:5588a1c3e4b036309780ac79@squarespace.com
DTSTAMP:20150625T002357Z
DTSTART:20150724T060000Z
DTEND:20150724T080000Z
SUMMARY:FOOD TRUCK FRIDAY\, LITTLE MALOP STREET CENTRAL\, GEELONG
END:VEVENT
END:VCALENDAR
