BEGIN:VCALENDAR
VERSION:2.0
PRODID:-//Squarespace Inc/Squarespace 6//v6//EN
BEGIN:VEVENT
UID:558b48cfe4b0adbb054f8e80@squarespace.com
DTSTAMP:20150625T001936Z
DTSTART:20150710T060000Z
DTEND:20150710T080000Z
SUMMARY:FOOD TRUCK FRIDAY\, LITTLE MALOP STREET CENTRAL\, GEELONG
END:VEVENT
END:VCALENDAR
