BEGIN:VCALENDAR
VERSION:2.0
PRODID:-//Squarespace Inc/Squarespace 6//v6//EN
BEGIN:VEVENT
UID:555d23ace4b089fc8015dd5e@squarespace.com
DTSTAMP:20150622T234619Z
DTSTART:20150625T103000Z
DTEND:20150625T123000Z
SUMMARY:Pistol Pete's\, Little Malop Street\, Geelong
END:VEVENT
END:VCALENDAR
