BEGIN:VCALENDAR
VERSION:2.0
PRODID:-//Squarespace Inc/Squarespace 6//v6//EN
BEGIN:VEVENT
UID:555d230ee4b0391001973f46@squarespace.com
DTSTAMP:20150521T001524Z
DTSTART:20150612T020000Z
DTEND:20150612T040000Z
SUMMARY:Central Geelong ( Little Malop Street)
END:VEVENT
END:VCALENDAR
