BEGIN:VCALENDAR
VERSION:2.0
PRODID:-//Squarespace Inc/Squarespace 6//v6//EN
BEGIN:VEVENT
UID:554737aae4b04bf77e4735a3@squarespace.com
DTSTAMP:20150504T091711Z
DTSTART:20150508T110000Z
DTEND:20150508T120000Z
SUMMARY:Geelong After Dark extreme arts event
END:VEVENT
END:VCALENDAR
