BEGIN:VCALENDAR
VERSION:2.0
PRODID:-//Squarespace Inc/Squarespace 6//v6//EN
BEGIN:VEVENT
UID:5547371de4b0325625f954c5@squarespace.com
DTSTAMP:20150504T091051Z
DTSTART:20150508T020000Z
DTEND:20150508T040000Z
SUMMARY:Central Geelong (Little Malop Street)
END:VEVENT
END:VCALENDAR
