BEGIN:VCALENDAR
VERSION:2.0
PRODID:-//Squarespace Inc/Squarespace 6//v6//EN
BEGIN:VEVENT
UID:54fe1b22e4b0c905aa4dfd5e@squarespace.com
DTSTAMP:20150309T221554Z
DTSTART:20150409T090000Z
DTEND:20150409T120000Z
SUMMARY:Cafe Maritana\, Barwon Heads
END:VEVENT
END:VCALENDAR
