BEGIN:VCALENDAR
VERSION:2.0
PRODID:-//Squarespace Inc/Squarespace 6//v6//EN
BEGIN:VEVENT
UID:54fe1dfee4b07c6673231f14@squarespace.com
DTSTAMP:20150309T222733Z
DTSTART:20150404T000000Z
DTEND:20150404T010000Z
SUMMARY:Barwon Heads Primary School Easter Fair
END:VEVENT
END:VCALENDAR
