BEGIN:VCALENDAR
VERSION:2.0
PRODID:-//Squarespace Inc/Squarespace 6//v6//EN
BEGIN:VEVENT
UID:54fe1c3ae4b07a28ce33ac61@squarespace.com
DTSTAMP:20150504T090831Z
DTSTART:20150424T020000Z
DTEND:20150424T040000Z
SUMMARY:Central Geelong (Little Malop Street - The Mall)
END:VEVENT
END:VCALENDAR
