BEGIN:VCALENDAR
VERSION:2.0
PRODID:-//Squarespace Inc/Squarespace 6//v6//EN
BEGIN:VEVENT
UID:54fe1ba7e4b07a28ce33a8f4@squarespace.com
DTSTAMP:20150309T221820Z
DTSTART:20150412T040000Z
DTEND:20150412T190000Z
SUMMARY:Bellbrae Estate
END:VEVENT
END:VCALENDAR
