BEGIN:VCALENDAR
VERSION:2.0
PRODID:-//Squarespace Inc/Squarespace 6//v6//EN
BEGIN:VEVENT
UID:54d80bfde4b071be742f315b@squarespace.com
DTSTAMP:20150209T013016Z
DTSTART:20150306T053000Z
DTEND:20150306T061500Z
SUMMARY:Ocean Grove Primary School - Annual APPLE FAIR
END:VEVENT
END:VCALENDAR
