BEGIN:VCALENDAR
VERSION:2.0
PRODID:-//Squarespace Inc/Squarespace 6//v6//EN
BEGIN:VEVENT
UID:54daa7e6e4b0a73e80b257e1@squarespace.com
DTSTAMP:20150211T005825Z
DTSTART:20150315T023000Z
DTEND:20150315T031500Z
SUMMARY:Barwon Heads Festival of the Sea
END:VEVENT
END:VCALENDAR
