BEGIN:VCALENDAR
VERSION:2.0
PRODID:-//Squarespace Inc/Squarespace 6//v6//EN
BEGIN:VEVENT
UID:54d80b5ee4b0340f2fba5c41@squarespace.com
DTSTAMP:20150209T012258Z
DTSTART:20150301T003000Z
DTEND:20150301T011500Z
SUMMARY:Wallington P.S. Strawberry Fair
END:VEVENT
END:VCALENDAR
