BEGIN:VCALENDAR
VERSION:2.0
PRODID:-//Squarespace Inc/Squarespace 6//v6//EN
BEGIN:VEVENT
UID:543efddfe4b07a3fedf42c95@squarespace.com
DTSTAMP:20141015T232040Z
DTSTART:20150206T075000Z
DTEND:20150206T084000Z
SUMMARY:Nightjar Market Geelong
END:VEVENT
END:VCALENDAR
