BEGIN:VCALENDAR
VERSION:2.0
PRODID:-//Squarespace Inc/Squarespace 6//v6//EN
BEGIN:VEVENT
UID:54d80959e4b0b30d9475c95e@squarespace.com
DTSTAMP:20150209T012014Z
DTSTART:20150228T080000Z
DTEND:20150228T120000Z
SUMMARY:Mphatso Children's Foundation 10 Year Celebration
END:VEVENT
END:VCALENDAR
