BEGIN:VCALENDAR
VERSION:2.0
PRODID:-//Squarespace Inc/Squarespace 6//v6//EN
BEGIN:VEVENT
UID:549df89ce4b093269b5da3b6@squarespace.com
DTSTAMP:20150211T005233Z
DTSTART:20150213T080000Z
DTEND:20150213T110000Z
SUMMARY:Cafe Maritana - Barwon Heads
END:VEVENT
END:VCALENDAR
