BEGIN:VCALENDAR
VERSION:2.0
PRODID:-//Squarespace Inc/Squarespace 6//v6//EN
BEGIN:VEVENT
UID:567facf2a12f44019ca1eb9b@squarespace.com
DTSTAMP:20151227T092120Z
DTSTART:20151218T070000Z
DTEND:20151218T103000Z
SUMMARY:Sarah's Carrolls @ The Chook Shop
END:VEVENT
END:VCALENDAR
