BEGIN:VCALENDAR
VERSION:2.0
PRODID:-//Squarespace Inc/Squarespace 6//v6//EN
BEGIN:VEVENT
UID:56245238e4b0d232542baa2d@squarespace.com
DTSTAMP:20151019T021754Z
DTSTART:20151218T010000Z
DTEND:20151218T030000Z
SUMMARY:Geelong Street Performers
END:VEVENT
END:VCALENDAR
