BEGIN:VCALENDAR
VERSION:2.0
PRODID:-//Squarespace Inc/Squarespace 6//v6//EN
BEGIN:VEVENT
UID:567fac9c7086d78817b81107@squarespace.com
DTSTAMP:20151227T091828Z
DTSTART:20151213T080000Z
DTEND:20151213T110000Z
SUMMARY:Ocean Grove Carols in the Park
END:VEVENT
END:VCALENDAR
