BEGIN:VCALENDAR
VERSION:2.0
PRODID:-//Squarespace Inc/Squarespace 6//v6//EN
BEGIN:VEVENT
UID:562451e7e4b079b0ec79f2fb@squarespace.com
DTSTAMP:20151019T021504Z
DTSTART:20151107T010000Z
DTEND:20151107T014500Z
SUMMARY:Bellarine Relay for Life
END:VEVENT
END:VCALENDAR
