BEGIN:VCALENDAR
VERSION:2.0
PRODID:-//Squarespace Inc/Squarespace 6//v6//EN
BEGIN:VEVENT
UID:559cff07e4b0a9d46b7d8934@squarespace.com
DTSTAMP:20150708T104454Z
DTSTART:20151003T110000Z
DTEND:20151003T133000Z
SUMMARY:Unwined Cafe/Bar\, Belmont
END:VEVENT
END:VCALENDAR
