BEGIN:VCALENDAR
VERSION:2.0
PRODID:-//Squarespace Inc/Squarespace 6//v6//EN
BEGIN:VEVENT
UID:56245138e4b059c47b4f6be1@squarespace.com
DTSTAMP:20151019T021325Z
DTSTART:20151106T003000Z
DTEND:20151106T033000Z
SUMMARY:Food Truck Friday
END:VEVENT
END:VCALENDAR
