BEGIN:VCALENDAR
VERSION:2.0
PRODID:-//Squarespace Inc/Squarespace 6//v6//EN
BEGIN:VEVENT
UID:549df723e4b055cfe6cf5c7a@squarespace.com
DTSTAMP:20141227T000536Z
DTSTART:20150109T003000Z
DTEND:20150109T033000Z
SUMMARY:Food Truck Friday - The Mall\, Central Geelong.
END:VEVENT
END:VCALENDAR
