BEGIN:VCALENDAR
VERSION:2.0
PRODID:-//Squarespace Inc/Squarespace 6//v6//EN
BEGIN:VEVENT
UID:549df7e7e4b004237f819fb1@squarespace.com
DTSTAMP:20141227T000826Z
DTSTART:20150109T060000Z
DTEND:20150109T080000Z
SUMMARY:At the Heads Cafe Restaurant\, Barwon Heads
END:VEVENT
END:VCALENDAR
