BEGIN:VCALENDAR
VERSION:2.0
PRODID:-//Squarespace Inc/Squarespace 6//v6//EN
BEGIN:VEVENT
UID:543f0152e4b06e8e3b23c361@squarespace.com
DTSTAMP:20141229T025142Z
DTSTART:20150102T233000Z
DTEND:20150103T001500Z
SUMMARY:Ocean Grove Tranquility Fair
END:VEVENT
END:VCALENDAR
