BEGIN:VCALENDAR
VERSION:2.0
PRODID:-//Squarespace Inc/Squarespace 6//v6//EN
BEGIN:VEVENT
UID:54bf1672e4b03b6dc2fc1735@squarespace.com
DTSTAMP:20150121T030234Z
DTSTART:20150126T040000Z
DTEND:20150126T044500Z
SUMMARY:Festival of Sails - Geelong Waterfront
END:VEVENT
END:VCALENDAR
