BEGIN:VCALENDAR
VERSION:2.0
PRODID:-//Squarespace Inc/Squarespace 6//v6//EN
BEGIN:VEVENT
UID:54bf1514e4b071801f758e38@squarespace.com
DTSTAMP:20150121T030443Z
DTSTART:20150125T030000Z
DTEND:20150125T034500Z
SUMMARY:Festival of Sails - Geelong Waterfront
END:VEVENT
END:VCALENDAR
