BEGIN:VCALENDAR
VERSION:2.0
PRODID:-//Squarespace Inc/Squarespace 6//v6//EN
BEGIN:VEVENT
UID:5403c165e4b017ae41b1868a@squarespace.com
DTSTAMP:20140901T004536Z
DTSTART:20140905T020000Z
DTEND:20140905T040000Z
SUMMARY:The Mall\, Little Malop Street\, Central Geelong
END:VEVENT
END:VCALENDAR
