BEGIN:VCALENDAR
VERSION:2.0
PRODID:-//Squarespace Inc/Squarespace 6//v6//EN
BEGIN:VEVENT
UID:5403c334e4b0e522f5dd3271@squarespace.com
DTSTAMP:20140901T005248Z
DTSTART:20140919T020000Z
DTEND:20140919T040000Z
SUMMARY:The Mall\, Little Malop Street\, Central Geelong
END:VEVENT
END:VCALENDAR
