BEGIN:VCALENDAR
VERSION:2.0
PRODID:-//Squarespace Inc/Squarespace 6//v6//EN
BEGIN:VEVENT
UID:538c4baae4b0ed28e032f03f@squarespace.com
DTSTAMP:20140602T100242Z
DTSTART:20140808T020000Z
DTEND:20140808T040000Z
SUMMARY:The Mall\, Little Malop Street\, Central Geelong
END:VEVENT
END:VCALENDAR
