BEGIN:VCALENDAR
VERSION:2.0
PRODID:-//Squarespace Inc/Squarespace 6//v6//EN
BEGIN:VEVENT
UID:538c4bc6e4b0ed28e032f051@squarespace.com
DTSTAMP:20140615T105208Z
DTSTART:20140829T020000Z
DTEND:20140829T040000Z
SUMMARY:The Mall\, Little Malop Street\, Central Geelong
GEO:-38.14827;144.360348
LOCATION:The Mall\, The Mall\, Little Malop Street\, Geelong\, Victoria\, A
 ustralia
END:VEVENT
END:VCALENDAR
