BEGIN:VCALENDAR
VERSION:2.0
PRODID:-//Squarespace Inc/Squarespace 6//v6//EN
BEGIN:VEVENT
UID:53d99807e4b076468f59dbc5@squarespace.com
DTSTAMP:20140731T011305Z
DTSTART:20140801T020000Z
DTEND:20140801T040000Z
SUMMARY:The Mall\, Little Malop Street Central\, Geelong
END:VEVENT
END:VCALENDAR
